BEGIN:VCALENDAR
VERSION:2.0
PRODID:-//hacksw/handcal//NONSGML v1.0//EN
BEGIN:VEVENT
DTSTART:20261031
DTEND:20261101
LOCATION:contrexeville
SUMMARY:Sophro Création
URL:https://www.ville-contrexeville.fr/Agenda/Sophro-Creation-02106.html
END:VEVENT
END:VCALENDAR