BEGIN:VCALENDAR
VERSION:2.0
PRODID:-//hacksw/handcal//NONSGML v1.0//EN
BEGIN:VEVENT
DTSTART:20261028
DTEND:20261029
LOCATION:contrexeville
SUMMARY:Visite focus de la Chapelle Russe Orthodoxe
DESCRIPTION:https://www.ville-contrexeville.fr/Agenda/Visite-focus-Chapelle-Russe-Orthodoxe-02109.html
END:VEVENT
END:VCALENDAR